BEGIN:VCALENDAR
VERSION:2.0
PRODID:-//Tukios.com/
BEGIN:VEVENT
UID:586af97e-9f41-4eca-8e27-d9cc6c3f91bc@www.thompsonfuneralhomes.com
DTSTAMP:20260425T042545Z
DTSTART:20260428T170000Z
DTEND:20260428T173000Z
SUMMARY:Funeral Service
DESCRIPTION:
URL:https://www.thompsonfuneralhomes.com/obituaries/raymond-ross
LOCATION:Thompson Funeral Home  241 E Main St   OH 45133
GEO:39.2012797;-83.6074445
END:VEVENT
END:VCALENDAR