BEGIN:VCALENDAR
VERSION:2.0
PRODID:-//Tukios.com/
BEGIN:VEVENT
UID:deb7af18-bb31-47e8-a63f-bd4b4b01214d@www.thompsonfuneralhomes.com
DTSTAMP:20260425T042303Z
DTSTART:20260428T180000Z
DTEND:20260428T181500Z
SUMMARY:Graveside Service
DESCRIPTION:
URL:https://www.thompsonfuneralhomes.com/obituaries/raymond-ross
LOCATION:Coss Cemetery Coss Road  Belfast OH 
GEO:39.0628455;-83.5324176
END:VEVENT
END:VCALENDAR