BEGIN:VCALENDAR
VERSION:2.0
PRODID:-//Tukios.com/
BEGIN:VEVENT
UID:f8c6d738-426e-48fa-8847-c51c081c9bbf@www.thompsonfuneralhomes.com
DTSTAMP:20260423T132554Z
DTSTART:20260502T180000Z
DTEND:20260502T210000Z
SUMMARY:Celebration of Life
DESCRIPTION:
URL:https://www.thompsonfuneralhomes.com/obituaries/arshall-maddy
LOCATION:     
GEO:0;0
END:VEVENT
END:VCALENDAR